BEGIN:VCALENDAR
VERSION:2.0
PRODID:-//Sonara Singers - ECPv6.15.16//NONSGML v1.0//EN
CALSCALE:GREGORIAN
METHOD:PUBLISH
X-WR-CALNAME:Sonara Singers
X-ORIGINAL-URL:https://sonarasingers.com
X-WR-CALDESC:Events for Sonara Singers
REFRESH-INTERVAL;VALUE=DURATION:PT1H
X-Robots-Tag:noindex
X-PUBLISHED-TTL:PT1H
BEGIN:VTIMEZONE
TZID:Europe/London
BEGIN:DAYLIGHT
TZOFFSETFROM:+0000
TZOFFSETTO:+0100
TZNAME:BST
DTSTART:20250330T010000
END:DAYLIGHT
BEGIN:STANDARD
TZOFFSETFROM:+0100
TZOFFSETTO:+0000
TZNAME:GMT
DTSTART:20251026T010000
END:STANDARD
BEGIN:DAYLIGHT
TZOFFSETFROM:+0000
TZOFFSETTO:+0100
TZNAME:BST
DTSTART:20260329T010000
END:DAYLIGHT
BEGIN:STANDARD
TZOFFSETFROM:+0100
TZOFFSETTO:+0000
TZNAME:GMT
DTSTART:20261025T010000
END:STANDARD
BEGIN:DAYLIGHT
TZOFFSETFROM:+0000
TZOFFSETTO:+0100
TZNAME:BST
DTSTART:20270328T010000
END:DAYLIGHT
BEGIN:STANDARD
TZOFFSETFROM:+0100
TZOFFSETTO:+0000
TZNAME:GMT
DTSTART:20271031T010000
END:STANDARD
END:VTIMEZONE
BEGIN:VEVENT
DTSTART;TZID=Europe/London:20261017T190000
DTEND;TZID=Europe/London:20261017T220000
DTSTAMP:20260424T193236
CREATED:20260105T231141Z
LAST-MODIFIED:20260208T161853Z
UID:722-1792263600-1792274400@sonarasingers.com
SUMMARY:Sonara Singers present Friendship In Harmony: The 90th Anniversary Cathedral Gala Concert with Special Guests.
DESCRIPTION:Gala Celebration Concert at Derby Cathedral for The Air Ambulance\, Women’s Work and Speech\, Sign and Song charities  With Matlock Brass Band\, Mansfield Male Voice Choir and Rock and Soul Choir.
URL:https://sonarasingers.com/event/gala-celebration-concert-at-derby-cathedral-for-the-air-ambulance-womens-work-and-speech-sign-and-song-charities-with-matlock-brass-band-mansfield-male-voice-choir-and-rock-and-soul-choir/
LOCATION:Derbyshire
END:VEVENT
END:VCALENDAR