BEGIN:VCALENDAR
VERSION:2.0
PRODID:-//Sonara Singers - ECPv6.15.16//NONSGML v1.0//EN
CALSCALE:GREGORIAN
METHOD:PUBLISH
X-ORIGINAL-URL:https://sonarasingers.com
X-WR-CALDESC:Events for Sonara Singers
REFRESH-INTERVAL;VALUE=DURATION:PT1H
X-Robots-Tag:noindex
X-PUBLISHED-TTL:PT1H
BEGIN:VTIMEZONE
TZID:Europe/London
BEGIN:DAYLIGHT
TZOFFSETFROM:+0000
TZOFFSETTO:+0100
TZNAME:BST
DTSTART:20250330T010000
END:DAYLIGHT
BEGIN:STANDARD
TZOFFSETFROM:+0100
TZOFFSETTO:+0000
TZNAME:GMT
DTSTART:20251026T010000
END:STANDARD
BEGIN:DAYLIGHT
TZOFFSETFROM:+0000
TZOFFSETTO:+0100
TZNAME:BST
DTSTART:20260329T010000
END:DAYLIGHT
BEGIN:STANDARD
TZOFFSETFROM:+0100
TZOFFSETTO:+0000
TZNAME:GMT
DTSTART:20261025T010000
END:STANDARD
BEGIN:DAYLIGHT
TZOFFSETFROM:+0000
TZOFFSETTO:+0100
TZNAME:BST
DTSTART:20270328T010000
END:DAYLIGHT
BEGIN:STANDARD
TZOFFSETFROM:+0100
TZOFFSETTO:+0000
TZNAME:GMT
DTSTART:20271031T010000
END:STANDARD
END:VTIMEZONE
BEGIN:VEVENT
DTSTART;TZID=Europe/London:20261212T150000
DTEND;TZID=Europe/London:20261212T190000
DTSTAMP:20260424T225137
CREATED:20260105T231334Z
LAST-MODIFIED:20260208T154013Z
UID:726-1797087600-1797102000@sonarasingers.com
SUMMARY:Sonara annual Christmas Concert at St Andrews Church Swanwick with Matlock Brass Band
DESCRIPTION:Sonara annual Christmas Concert at St Andrews Church Swanwick with Matlock Brass Band
URL:https://sonarasingers.com/event/sonara-annual-christmas-concert-at-st-andrews-church-swanwick-with-matlock-brass-band/
LOCATION:St Andrews Church\, Swanwick\, The Old School House\, 22 The Green\, Swanwick\, Derbyshire\, DE55 1BL\, United Kingdom
END:VEVENT
END:VCALENDAR