BEGIN:VCALENDAR
VERSION:2.0
PRODID:-//Sonara Singers - ECPv6.15.16//NONSGML v1.0//EN
CALSCALE:GREGORIAN
METHOD:PUBLISH
X-WR-CALNAME:Sonara Singers
X-ORIGINAL-URL:https://sonarasingers.com
X-WR-CALDESC:Events for Sonara Singers
REFRESH-INTERVAL;VALUE=DURATION:PT1H
X-Robots-Tag:noindex
X-PUBLISHED-TTL:PT1H
BEGIN:VTIMEZONE
TZID:Europe/London
BEGIN:DAYLIGHT
TZOFFSETFROM:+0000
TZOFFSETTO:+0100
TZNAME:BST
DTSTART:20240331T010000
END:DAYLIGHT
BEGIN:STANDARD
TZOFFSETFROM:+0100
TZOFFSETTO:+0000
TZNAME:GMT
DTSTART:20241027T010000
END:STANDARD
BEGIN:DAYLIGHT
TZOFFSETFROM:+0000
TZOFFSETTO:+0100
TZNAME:BST
DTSTART:20250330T010000
END:DAYLIGHT
BEGIN:STANDARD
TZOFFSETFROM:+0100
TZOFFSETTO:+0000
TZNAME:GMT
DTSTART:20251026T010000
END:STANDARD
BEGIN:DAYLIGHT
TZOFFSETFROM:+0000
TZOFFSETTO:+0100
TZNAME:BST
DTSTART:20260329T010000
END:DAYLIGHT
BEGIN:STANDARD
TZOFFSETFROM:+0100
TZOFFSETTO:+0000
TZNAME:GMT
DTSTART:20261025T010000
END:STANDARD
END:VTIMEZONE
BEGIN:VEVENT
DTSTART;TZID=Europe/London:20251123T170000
DTEND;TZID=Europe/London:20251123T200000
DTSTAMP:20260424T194625
CREATED:20251102T185310Z
LAST-MODIFIED:20251102T220413Z
UID:588-1763917200-1763928000@sonarasingers.com
SUMMARY:Christmas Lights Switch on at Ripley Market Place
DESCRIPTION:We are excited to join with Heage Band for the Christmas Light Switch on where there will be stall and activities for most of the day. \nRipley Market Place for Christmas Lights Switch on at Sunday November 23rd  5pm. We will be singing carols with Heage Band.
URL:https://sonarasingers.com/event/christmas-lights-switch-on-at-ripley-market-place/
LOCATION:Ripley Market Place\, Market Pl\, Ripley\, DE5 3HA
ATTACH;FMTTYPE=image/jpeg:https://sonarasingers.com/wp-content/uploads/2025/11/IMG-20251102-WA0003.jpg
END:VEVENT
END:VCALENDAR