BEGIN:VCALENDAR
VERSION:2.0
PRODID:-//Sonara Singers - ECPv6.15.16//NONSGML v1.0//EN
CALSCALE:GREGORIAN
METHOD:PUBLISH
X-ORIGINAL-URL:https://sonarasingers.com
X-WR-CALDESC:Events for Sonara Singers
REFRESH-INTERVAL;VALUE=DURATION:PT1H
X-Robots-Tag:noindex
X-PUBLISHED-TTL:PT1H
BEGIN:VTIMEZONE
TZID:Europe/London
BEGIN:DAYLIGHT
TZOFFSETFROM:+0000
TZOFFSETTO:+0100
TZNAME:BST
DTSTART:20250330T010000
END:DAYLIGHT
BEGIN:STANDARD
TZOFFSETFROM:+0100
TZOFFSETTO:+0000
TZNAME:GMT
DTSTART:20251026T010000
END:STANDARD
BEGIN:DAYLIGHT
TZOFFSETFROM:+0000
TZOFFSETTO:+0100
TZNAME:BST
DTSTART:20260329T010000
END:DAYLIGHT
BEGIN:STANDARD
TZOFFSETFROM:+0100
TZOFFSETTO:+0000
TZNAME:GMT
DTSTART:20261025T010000
END:STANDARD
BEGIN:DAYLIGHT
TZOFFSETFROM:+0000
TZOFFSETTO:+0100
TZNAME:BST
DTSTART:20270328T010000
END:DAYLIGHT
BEGIN:STANDARD
TZOFFSETFROM:+0100
TZOFFSETTO:+0000
TZNAME:GMT
DTSTART:20271031T010000
END:STANDARD
END:VTIMEZONE
BEGIN:VEVENT
DTSTART;TZID=Europe/London:20260919T080000
DTEND;TZID=Europe/London:20260919T170000
DTSTAMP:20260424T193412
CREATED:20260105T231048Z
LAST-MODIFIED:20260105T231048Z
UID:720-1789804800-1789837200@sonarasingers.com
SUMMARY:Come and Sing Event at St Mary’s Church Eastwood with Eastwood Colliery Male Voice Choir
DESCRIPTION:Come and Sing Event at St Mary’s Church Eastwood with Eastwood Colliery Male Voice Choir
URL:https://sonarasingers.com/event/come-and-sing-event-at-st-marys-church-eastwood-with-eastwood-colliery-male-voice-choir/
LOCATION:Derbyshire
END:VEVENT
END:VCALENDAR