BEGIN:VCALENDAR
VERSION:2.0
PRODID:-//Sonara Singers - ECPv6.15.16//NONSGML v1.0//EN
CALSCALE:GREGORIAN
METHOD:PUBLISH
X-ORIGINAL-URL:https://sonarasingers.com
X-WR-CALDESC:Events for Sonara Singers
REFRESH-INTERVAL;VALUE=DURATION:PT1H
X-Robots-Tag:noindex
X-PUBLISHED-TTL:PT1H
BEGIN:VTIMEZONE
TZID:Europe/London
BEGIN:DAYLIGHT
TZOFFSETFROM:+0000
TZOFFSETTO:+0100
TZNAME:BST
DTSTART:20250330T010000
END:DAYLIGHT
BEGIN:STANDARD
TZOFFSETFROM:+0100
TZOFFSETTO:+0000
TZNAME:GMT
DTSTART:20251026T010000
END:STANDARD
BEGIN:DAYLIGHT
TZOFFSETFROM:+0000
TZOFFSETTO:+0100
TZNAME:BST
DTSTART:20260329T010000
END:DAYLIGHT
BEGIN:STANDARD
TZOFFSETFROM:+0100
TZOFFSETTO:+0000
TZNAME:GMT
DTSTART:20261025T010000
END:STANDARD
BEGIN:DAYLIGHT
TZOFFSETFROM:+0000
TZOFFSETTO:+0100
TZNAME:BST
DTSTART:20270328T010000
END:DAYLIGHT
BEGIN:STANDARD
TZOFFSETFROM:+0100
TZOFFSETTO:+0000
TZNAME:GMT
DTSTART:20271031T010000
END:STANDARD
END:VTIMEZONE
BEGIN:VEVENT
DTSTART;TZID=Europe/London:20260516T190000
DTEND;TZID=Europe/London:20260516T220000
DTSTAMP:20260424T125729
CREATED:20260105T230856Z
LAST-MODIFIED:20260420T070625Z
UID:716-1778958000-1778968800@sonarasingers.com
SUMMARY:Friendship in Harmony
DESCRIPTION:A charity concert for Women’s Work Derby and we are joined by Rolls Royce Ladies Choir at PostMill centre South Normanton
URL:https://sonarasingers.com/event/charity-concert-for-womens-work-at-postmill-centre-south-normanton-with-rolls-royce-ladies-choir/
LOCATION:PostMill Centre\, Market St\, South Normanton\, Alfreton\, DE55 2EJ
END:VEVENT
END:VCALENDAR