BEGIN:VCALENDAR
VERSION:2.0
PRODID:-//Sonara Singers - ECPv6.15.16//NONSGML v1.0//EN
CALSCALE:GREGORIAN
METHOD:PUBLISH
X-WR-CALNAME:Sonara Singers
X-ORIGINAL-URL:https://sonarasingers.com
X-WR-CALDESC:Events for Sonara Singers
REFRESH-INTERVAL;VALUE=DURATION:PT1H
X-Robots-Tag:noindex
X-PUBLISHED-TTL:PT1H
BEGIN:VTIMEZONE
TZID:Europe/London
BEGIN:DAYLIGHT
TZOFFSETFROM:+0000
TZOFFSETTO:+0100
TZNAME:BST
DTSTART:20240331T010000
END:DAYLIGHT
BEGIN:STANDARD
TZOFFSETFROM:+0100
TZOFFSETTO:+0000
TZNAME:GMT
DTSTART:20241027T010000
END:STANDARD
BEGIN:DAYLIGHT
TZOFFSETFROM:+0000
TZOFFSETTO:+0100
TZNAME:BST
DTSTART:20250330T010000
END:DAYLIGHT
BEGIN:STANDARD
TZOFFSETFROM:+0100
TZOFFSETTO:+0000
TZNAME:GMT
DTSTART:20251026T010000
END:STANDARD
BEGIN:DAYLIGHT
TZOFFSETFROM:+0000
TZOFFSETTO:+0100
TZNAME:BST
DTSTART:20260329T010000
END:DAYLIGHT
BEGIN:STANDARD
TZOFFSETFROM:+0100
TZOFFSETTO:+0000
TZNAME:GMT
DTSTART:20261025T010000
END:STANDARD
END:VTIMEZONE
BEGIN:VEVENT
DTSTART;TZID=Europe/London:20251220T120000
DTEND;TZID=Europe/London:20251220T140000
DTSTAMP:20260424T180811
CREATED:20251102T193600Z
LAST-MODIFIED:20251102T193902Z
UID:614-1766232000-1766239200@sonarasingers.com
SUMMARY:Derby Market Hall\, an hour of Christmas carols and songs for charity.
DESCRIPTION:Have a listen\, or shop\, relax or eat\, as Sonara sings carols at Derby Market Hall\, located with Derby City Centre.\nAll proceed to go to charity.\n12 noon.
URL:https://sonarasingers.com/event/derby-market-hall-an-hour-of-christmas-carols-and-songs-for-charity/
LOCATION:Derby Market Hall\, Derby Market Hall\, Tennant Street\, Derby\, DE1 2DB
ATTACH;FMTTYPE=image/webp:https://sonarasingers.com/wp-content/uploads/2025/11/0_050518DTLandMarks-53JPG.webp
END:VEVENT
END:VCALENDAR